BEGIN:VCALENDAR
VERSION:2.0
PRODID:DPCALENDAR
CALSCALE:GREGORIAN
BEGIN:VTIMEZONE
TZID:UTC
X-MICROSOFT-CDO-TZID:0
END:VTIMEZONE
X-WR-TIMEZONE:UTC
BEGIN:VEVENT
DTSTART;VALUE=DATE:20200605
DTEND;VALUE=DATE:20200606
UID:A3A43611-BE78-479E-B248-D3BB3C96A087
SUMMARY:Mündliche Prüfung Englisch (8 c) - Verlegt!
DTSTAMP:20200120T131514Z
DESCRIPTION:
X-ALT-DESC;FMTTYPE=text/html:
LAST-MODIFIED:20200528T130526Z
X-ACCESS:1
X-HITS:407
X-URL:
X-COLOR:3366CC
END:VEVENT
END:VCALENDAR