BEGIN:VCALENDAR
VERSION:2.0
PRODID:DPCALENDAR
CALSCALE:GREGORIAN
BEGIN:VTIMEZONE
TZID:UTC
X-MICROSOFT-CDO-TZID:0
END:VTIMEZONE
X-WR-TIMEZONE:UTC
BEGIN:VEVENT
DTSTART;VALUE=DATE:20260511
DTEND;VALUE=DATE:20260512
UID:D0F872DA-C7B8-41DD-8D17-C0A78AD10723
SUMMARY:Abschlussprüfung 10 – Deutsch
DTSTAMP:20250918T152030Z
DESCRIPTION:
X-ALT-DESC;FMTTYPE=text/html:
X-ACCESS:1
X-HITS:44
X-URL:
X-COLOR:3366CC
END:VEVENT
END:VCALENDAR