BEGIN:VCALENDAR
VERSION:2.0
PRODID:DPCALENDAR
CALSCALE:GREGORIAN
BEGIN:VTIMEZONE
TZID:UTC
X-MICROSOFT-CDO-TZID:0
END:VTIMEZONE
X-WR-TIMEZONE:UTC
BEGIN:VEVENT
DTSTART;VALUE=DATE:20260505
DTEND;VALUE=DATE:20260506
UID:3D500D8E-9E49-4B07-B268-5AE4996CF696
SUMMARY:Jg. 9 vocatium Lindenhalle
DTSTAMP:20250918T152014Z
DESCRIPTION:
X-ALT-DESC;FMTTYPE=text/html:
X-ACCESS:1
X-HITS:41
X-URL:
X-COLOR:3366CC
END:VEVENT
END:VCALENDAR