BEGIN:VCALENDAR
VERSION:2.0
PRODID:DPCALENDAR
CALSCALE:GREGORIAN
BEGIN:VTIMEZONE
TZID:UTC
X-MICROSOFT-CDO-TZID:0
END:VTIMEZONE
X-WR-TIMEZONE:UTC
BEGIN:VEVENT
DTSTART;VALUE=DATE:20260501
DTEND;VALUE=DATE:20260502
UID:3BF4CE0E-E836-4FC1-AA08-B7D017295B5A
SUMMARY:Tag der Arbeit / 1. Mai
DTSTAMP:20250918T151943Z
DESCRIPTION:
X-ALT-DESC;FMTTYPE=text/html:
X-ACCESS:1
X-HITS:55
X-URL:
X-COLOR:3366CC
END:VEVENT
END:VCALENDAR